Package: PathNetData Version: 1.36.1 Command: /home/biocbuild/bbs-3.17-bioc/R/bin/R CMD build --keep-empty-dirs --no-resave-data PathNetData StartedAt: 2023-10-12 10:44:27 -0400 (Thu, 12 Oct 2023) EndedAt: 2023-10-12 10:44:29 -0400 (Thu, 12 Oct 2023) EllapsedTime: 2.0 seconds RetCode: 0 Status: OK PackageFile: PathNetData_1.36.1.tar.gz PackageFileSize: 2.427 MiB