git_url: https://git.bioconductor.org/packages/PWMEnrich.Hsapiens.background git_branch: RELEASE_3_17 git_last_commit: ced302c git_last_commit_date: 2023-04-25 10:34:14 -0400 (Tue, 25 Apr 2023) Package: PWMEnrich.Hsapiens.background Version: 4.34.0 Maintainer: Diego Diez MaintainerEmail: diego10ruiz at gmail.com