git_url: https://git.bioconductor.org/packages/MEEBOdata git_branch: RELEASE_3_17 git_last_commit: 6e80e3b git_last_commit_date: 2023-04-25 09:50:02 -0400 (Tue, 25 Apr 2023) Package: MEEBOdata Version: 1.38.0 Maintainer: Agnes Paquet MaintainerEmail: apaquet at medsfgh.ucsf.edu