Package: HelloRangesData Version: 1.26.0 Command: /home/biocbuild/bbs-3.17-bioc/R/bin/R CMD INSTALL HelloRangesData StartedAt: 2023-10-12 10:00:59 -0400 (Thu, 12 Oct 2023) EndedAt: 2023-10-12 10:01:01 -0400 (Thu, 12 Oct 2023) EllapsedTime: 2.3 seconds RetCode: 0 Status: OK