Package: HelloRangesData Version: 1.26.0 Command: /home/biocbuild/bbs-3.17-bioc/R/bin/R CMD build --keep-empty-dirs --no-resave-data HelloRangesData StartedAt: 2023-10-12 10:33:23 -0400 (Thu, 12 Oct 2023) EndedAt: 2023-10-12 10:33:57 -0400 (Thu, 12 Oct 2023) EllapsedTime: 34.2 seconds RetCode: 0 Status: OK PackageFile: HelloRangesData_1.26.0.tar.gz PackageFileSize: 45.73 MiB