git_url: https://git.bioconductor.org/packages/HarmonizedTCGAData git_branch: RELEASE_3_17 git_last_commit: b952e38 git_last_commit_date: 2023-04-25 10:44:24 -0400 (Tue, 25 Apr 2023) Package: HarmonizedTCGAData Version: 1.22.0 Maintainer: Tianle Ma MaintainerEmail: tianlema at buffalo.edu