git_url: https://git.bioconductor.org/packages/FlowSorted.DLPFC.450k git_branch: RELEASE_3_17 git_last_commit: 2e9d1be git_last_commit_date: 2023-04-25 10:35:41 -0400 (Tue, 25 Apr 2023) Package: FlowSorted.DLPFC.450k Version: 1.36.0 Maintainer: Andrew E Jaffe MaintainerEmail: andrew.jaffe at libd.org