Package: CopyNeutralIMA Version: 1.18.0 Command: /home/biocbuild/bbs-3.17-bioc/R/bin/R CMD INSTALL CopyNeutralIMA StartedAt: 2023-10-12 10:12:23 -0400 (Thu, 12 Oct 2023) EndedAt: 2023-10-12 10:12:41 -0400 (Thu, 12 Oct 2023) EllapsedTime: 17.7 seconds RetCode: 0 Status: OK