Package: CopyNeutralIMA Version: 1.18.0 Command: /home/biocbuild/bbs-3.17-bioc/R/bin/R CMD build --keep-empty-dirs --no-resave-data CopyNeutralIMA StartedAt: 2023-10-12 10:19:18 -0400 (Thu, 12 Oct 2023) EndedAt: 2023-10-12 10:22:40 -0400 (Thu, 12 Oct 2023) EllapsedTime: 202.7 seconds RetCode: 0 Status: OK PackageFile: CopyNeutralIMA_1.18.0.tar.gz PackageFileSize: 547.7 KiB