git_url: https://git.bioconductor.org/packages/ConnectivityMap git_branch: RELEASE_3_17 git_last_commit: 73a79ea git_last_commit_date: 2023-04-25 10:32:29 -0400 (Tue, 25 Apr 2023) Package: ConnectivityMap Version: 1.36.0 Maintainer: Paul Shannon MaintainerEmail: pshannon at systemsbiology.org