Package: ChimpHumanBrainData Version: 1.38.0 Command: /home/biocbuild/bbs-3.17-bioc/R/bin/R CMD check --install=check:ChimpHumanBrainData.install-out.txt --library=/home/biocbuild/bbs-3.17-bioc/R/site-library --timings ChimpHumanBrainData_1.38.0.tar.gz StartedAt: 2023-10-12 11:05:32 -0400 (Thu, 12 Oct 2023) EndedAt: 2023-10-12 11:10:15 -0400 (Thu, 12 Oct 2023) EllapsedTime: 282.8 seconds RetCode: 1 Status: ERROR CheckDir: ChimpHumanBrainData.Rcheck Warnings: NA