Package: ChimpHumanBrainData Version: 1.38.0 Command: /home/biocbuild/bbs-3.17-bioc/R/bin/R CMD build --keep-empty-dirs --no-resave-data ChimpHumanBrainData StartedAt: 2023-10-12 10:16:50 -0400 (Thu, 12 Oct 2023) EndedAt: 2023-10-12 10:17:35 -0400 (Thu, 12 Oct 2023) EllapsedTime: 45.2 seconds RetCode: 0 Status: OK PackageFile: ChimpHumanBrainData_1.38.0.tar.gz PackageFileSize: 64.9 MiB