Package: CellMapperData Version: 1.26.0 Command: /home/biocbuild/bbs-3.17-bioc/R/bin/R CMD INSTALL CellMapperData StartedAt: 2023-10-12 10:04:54 -0400 (Thu, 12 Oct 2023) EndedAt: 2023-10-12 10:05:04 -0400 (Thu, 12 Oct 2023) EllapsedTime: 10.0 seconds RetCode: 0 Status: OK