Package: CellMapperData Version: 1.26.0 Command: /home/biocbuild/bbs-3.17-bioc/R/bin/R CMD check --install=check:CellMapperData.install-out.txt --library=/home/biocbuild/bbs-3.17-bioc/R/site-library --timings CellMapperData_1.26.0.tar.gz StartedAt: 2023-10-12 11:04:43 -0400 (Thu, 12 Oct 2023) EndedAt: 2023-10-12 11:05:55 -0400 (Thu, 12 Oct 2023) EllapsedTime: 71.3 seconds RetCode: 0 Status: OK CheckDir: CellMapperData.Rcheck Warnings: 0