Package: CellMapperData Version: 1.26.0 Command: /home/biocbuild/bbs-3.17-bioc/R/bin/R CMD build --keep-empty-dirs --no-resave-data CellMapperData StartedAt: 2023-10-12 10:16:18 -0400 (Thu, 12 Oct 2023) EndedAt: 2023-10-12 10:16:41 -0400 (Thu, 12 Oct 2023) EllapsedTime: 23.4 seconds RetCode: 0 Status: OK PackageFile: CellMapperData_1.26.0.tar.gz PackageFileSize: 147.4 KiB