git_url: https://git.bioconductor.org/packages/COSMIC.67 git_branch: RELEASE_3_17 git_last_commit: c694fad git_last_commit_date: 2023-04-25 10:34:41 -0400 (Tue, 25 Apr 2023) Package: COSMIC.67 Version: 1.36.0 Maintainer: Julian Gehring MaintainerEmail: jg-bioc at gmx.com