Package: BeadArrayUseCases Version: 1.38.0 Command: /home/biocbuild/bbs-3.17-bioc/R/bin/R CMD INSTALL BeadArrayUseCases StartedAt: 2023-10-12 10:05:28 -0400 (Thu, 12 Oct 2023) EndedAt: 2023-10-12 10:05:40 -0400 (Thu, 12 Oct 2023) EllapsedTime: 11.9 seconds RetCode: 0 Status: OK