Package: BeadArrayUseCases Version: 1.38.0 Command: /home/biocbuild/bbs-3.17-bioc/R/bin/R CMD build --keep-empty-dirs --no-resave-data BeadArrayUseCases StartedAt: 2023-10-12 10:13:48 -0400 (Thu, 12 Oct 2023) EndedAt: 2023-10-12 10:20:54 -0400 (Thu, 12 Oct 2023) EllapsedTime: 425.9 seconds RetCode: 0 Status: OK PackageFile: BeadArrayUseCases_1.38.0.tar.gz PackageFileSize: 197.6 MiB