Package: AssessORFData Version: 1.18.0 Command: /home/biocbuild/bbs-3.17-bioc/R/bin/R CMD INSTALL AssessORFData StartedAt: 2023-10-12 10:02:14 -0400 (Thu, 12 Oct 2023) EndedAt: 2023-10-12 10:02:58 -0400 (Thu, 12 Oct 2023) EllapsedTime: 43.7 seconds RetCode: 0 Status: OK