Package: AssessORFData Version: 1.18.0 Command: /home/biocbuild/bbs-3.17-bioc/R/bin/R CMD check --install=check:AssessORFData.install-out.txt --library=/home/biocbuild/bbs-3.17-bioc/R/site-library --timings AssessORFData_1.18.0.tar.gz StartedAt: 2023-10-12 10:59:37 -0400 (Thu, 12 Oct 2023) EndedAt: 2023-10-12 11:03:52 -0400 (Thu, 12 Oct 2023) EllapsedTime: 254.9 seconds RetCode: 0 Status: OK CheckDir: AssessORFData.Rcheck Warnings: 0