Package: AssessORFData Version: 1.18.0 Command: /home/biocbuild/bbs-3.17-bioc/R/bin/R CMD build --keep-empty-dirs --no-resave-data AssessORFData StartedAt: 2023-10-12 10:13:41 -0400 (Thu, 12 Oct 2023) EndedAt: 2023-10-12 10:15:15 -0400 (Thu, 12 Oct 2023) EllapsedTime: 94.3 seconds RetCode: 0 Status: OK PackageFile: AssessORFData_1.18.0.tar.gz PackageFileSize: 144.6 MiB