Package: UniProtKeywords Version: 0.99.6 Command: /home/biocbuild/bbs-3.17-bioc/R/bin/R CMD build --keep-empty-dirs --no-resave-data UniProtKeywords StartedAt: 2023-10-11 05:32:00 -0400 (Wed, 11 Oct 2023) EndedAt: 2023-10-11 05:32:04 -0400 (Wed, 11 Oct 2023) EllapsedTime: 3.3 seconds RetCode: 0 Status: OK PackageFile: UniProtKeywords_0.99.6.tar.gz PackageFileSize: 1.186 MiB