git_url: https://git.bioconductor.org/packages/SpatialFeatureExperiment git_branch: master git_last_commit: a8fe82b git_last_commit_date: 2022-12-04 00:07:46 -0500 (Sun, 04 Dec 2022) Package: SpatialFeatureExperiment Version: 1.1.2 Maintainer: Lambda Moses MaintainerEmail: dlu2 at caltech.edu