Package: ReactomeContentService4R Version: 1.7.0 Command: rm -rf ReactomeContentService4R.buildbin-libdir && mkdir ReactomeContentService4R.buildbin-libdir && F:\biocbuild\bbs-3.17-bioc\R\bin\R.exe CMD INSTALL --build --library=ReactomeContentService4R.buildbin-libdir ReactomeContentService4R_1.7.0.tar.gz StartedAt: 2022-12-29 05:36:16 -0500 (Thu, 29 Dec 2022) EndedAt: 2022-12-29 05:36:40 -0500 (Thu, 29 Dec 2022) EllapsedTime: 23.8 seconds RetCode: 0 Status: OK PackageFile: ReactomeContentService4R_1.7.0.zip PackageFileSize: 1.142 MiB