git_url: https://git.bioconductor.org/packages/DelayedArray git_branch: master git_last_commit: 9a1f91e git_last_commit_date: 2022-11-01 11:14:54 -0500 (Tue, 01 Nov 2022) Package: DelayedArray Version: 0.25.0 Maintainer: Hervé Pagès MaintainerEmail: hpages.on.github at gmail.com