git_url: https://git.bioconductor.org/packages/CompoundDb git_branch: master git_last_commit: 268b890 git_last_commit_date: 2022-11-23 10:09:22 -0500 (Wed, 23 Nov 2022) Package: CompoundDb Version: 1.3.1 Maintainer: Johannes Rainer MaintainerEmail: johannes.rainer at eurac.edu