Package: SparseArray Version: 1.0.12 Command: /Library/Frameworks/R.framework/Resources/bin/R CMD INSTALL SparseArray StartedAt: 2023-10-15 15:24:12 -0400 (Sun, 15 Oct 2023) EndedAt: 2023-10-15 15:25:03 -0400 (Sun, 15 Oct 2023) EllapsedTime: 51.2 seconds RetCode: 0 Status: OK