Package: csawUsersGuide Version: 1.14.0 Command: chmod a+r csawUsersGuide -R && F:\biocbuild\bbs-3.16-bioc\R\bin\R.exe CMD build --keep-empty-dirs --no-resave-data csawUsersGuide StartedAt: 2023-04-11 11:04:49 -0400 (Tue, 11 Apr 2023) EndedAt: 2023-04-11 11:05:00 -0400 (Tue, 11 Apr 2023) EllapsedTime: 11.1 seconds RetCode: 0 Status: OK PackageFile: csawUsersGuide_1.14.0.tar.gz PackageFileSize: 35.94 KiB