Package: arrays Version: 1.24.0 Command: chmod a+r arrays -R && F:\biocbuild\bbs-3.16-bioc\R\bin\R.exe CMD build --keep-empty-dirs --no-resave-data arrays StartedAt: 2023-04-11 11:04:49 -0400 (Tue, 11 Apr 2023) EndedAt: 2023-04-11 11:05:20 -0400 (Tue, 11 Apr 2023) EllapsedTime: 30.9 seconds RetCode: 0 Status: OK PackageFile: arrays_1.24.0.tar.gz PackageFileSize: 9.64 MiB