Package: adductData Version: 1.14.0 Command: /home/biocbuild/bbs-3.16-bioc/R/bin/R CMD build --keep-empty-dirs --no-resave-data adductData StartedAt: 2023-04-11 10:18:22 -0400 (Tue, 11 Apr 2023) EndedAt: 2023-04-11 10:18:41 -0400 (Tue, 11 Apr 2023) EllapsedTime: 18.9 seconds RetCode: 0 Status: OK PackageFile: adductData_1.14.0.tar.gz PackageFileSize: 7.594 KiB