Package: rGenomeTracksData Version: 0.99.0 Command: /home/biocbuild/bbs-3.16-bioc/R/bin/R CMD INSTALL rGenomeTracksData StartedAt: 2023-04-12 03:00:12 -0400 (Wed, 12 Apr 2023) EndedAt: 2023-04-12 03:00:27 -0400 (Wed, 12 Apr 2023) EllapsedTime: 14.8 seconds RetCode: 0 Status: OK