Package: rGenomeTracksData Version: 0.99.0 Command: /home/biocbuild/bbs-3.16-bioc/R/bin/R CMD check --install=check:rGenomeTracksData.install-out.txt --library=/home/biocbuild/bbs-3.16-bioc/R/site-library --timings rGenomeTracksData_0.99.0.tar.gz StartedAt: 2023-04-12 03:06:03 -0400 (Wed, 12 Apr 2023) EndedAt: 2023-04-12 03:07:22 -0400 (Wed, 12 Apr 2023) EllapsedTime: 78.8 seconds RetCode: 0 Status: OK CheckDir: rGenomeTracksData.Rcheck Warnings: 0