Package: rGenomeTracksData Version: 0.99.0 Command: /home/biocbuild/bbs-3.16-bioc/R/bin/R CMD build --keep-empty-dirs --no-resave-data rGenomeTracksData StartedAt: 2023-04-12 03:03:06 -0400 (Wed, 12 Apr 2023) EndedAt: 2023-04-12 03:03:34 -0400 (Wed, 12 Apr 2023) EllapsedTime: 27.9 seconds RetCode: 0 Status: OK PackageFile: rGenomeTracksData_0.99.0.tar.gz PackageFileSize: 10.15 KiB