Package: DelayedMatrixStats Version: 1.20.0 Command: /Library/Frameworks/R.framework/Resources/bin/R CMD check --test-dir=longtests --no-stop-on-test-error --no-codoc --no-examples --no-manual --ignore-vignettes --check-subdirs=no DelayedMatrixStats_1.20.0.tar.gz StartedAt: 2023-04-15 08:05:00 -0400 (Sat, 15 Apr 2023) EndedAt: 2023-04-15 08:18:14 -0400 (Sat, 15 Apr 2023) EllapsedTime: 794.2 seconds RetCode: 0 Status: OK CheckDir: DelayedMatrixStats.Rcheck Warnings: 0