Package: treekoR Version: 1.6.1 Command: /Library/Frameworks/R.framework/Resources/bin/R CMD check --install=check:treekoR.install-out.txt --library=/Library/Frameworks/R.framework/Resources/library --no-vignettes --timings treekoR_1.6.1.tar.gz StartedAt: 2023-04-10 23:10:00 -0400 (Mon, 10 Apr 2023) EndedAt: 2023-04-10 23:14:27 -0400 (Mon, 10 Apr 2023) EllapsedTime: 267.6 seconds RetCode: 0 Status: OK CheckDir: treekoR.Rcheck Warnings: 0