Package: treekoR Version: 1.6.1 Command: /Library/Frameworks/R.framework/Resources/bin/R CMD build --keep-empty-dirs --no-resave-data treekoR StartedAt: 2023-04-10 18:18:50 -0400 (Mon, 10 Apr 2023) EndedAt: 2023-04-10 18:20:04 -0400 (Mon, 10 Apr 2023) EllapsedTime: 74.5 seconds RetCode: 0 Status: OK PackageFile: treekoR_1.6.1.tar.gz PackageFileSize: 1.576 MiB