Package: treekoR Version: 1.6.1 Command: rm -rf treekoR.buildbin-libdir && mkdir treekoR.buildbin-libdir && /Users/biocbuild/BBS/utils/build-universal.sh treekoR_1.6.1.tar.gz /Library/Frameworks/R.framework/Resources/bin/R treekoR.buildbin-libdir StartedAt: 2023-04-11 00:09:24 -0400 (Tue, 11 Apr 2023) EndedAt: 2023-04-11 00:10:03 -0400 (Tue, 11 Apr 2023) EllapsedTime: 38.9 seconds RetCode: 0 Status: OK PackageFile: treekoR_1.6.1.tgz PackageFileSize: 1.646 MiB