Package: segmentSeq Version: 2.32.0 Command: /home/biocbuild/bbs-3.16-bioc/R/bin/R CMD build --keep-empty-dirs --no-resave-data segmentSeq StartedAt: 2023-04-10 18:11:37 -0400 (Mon, 10 Apr 2023) EndedAt: 2023-04-10 18:18:42 -0400 (Mon, 10 Apr 2023) EllapsedTime: 424.6 seconds RetCode: 0 Status: OK PackageFile: segmentSeq_2.32.0.tar.gz PackageFileSize: 2.754 MiB