Package: segmentSeq Version: 2.32.0 Command: rm -rf segmentSeq.buildbin-libdir && mkdir segmentSeq.buildbin-libdir && /Users/biocbuild/BBS/utils/build-universal.sh segmentSeq_2.32.0.tar.gz /Library/Frameworks/R.framework/Resources/bin/R segmentSeq.buildbin-libdir StartedAt: 2023-04-11 00:04:26 -0400 (Tue, 11 Apr 2023) EndedAt: 2023-04-11 00:05:10 -0400 (Tue, 11 Apr 2023) EllapsedTime: 43.3 seconds RetCode: 0 Status: OK PackageFile: segmentSeq_2.32.0.tgz PackageFileSize: 3.541 MiB