Package: segmentSeq Version: 2.31.0 Command: /Library/Frameworks/R.framework/Resources/bin/R CMD build --keep-empty-dirs --no-resave-data segmentSeq StartedAt: 2022-07-07 04:57:36 -0400 (Thu, 07 Jul 2022) EndedAt: 2022-07-07 04:57:37 -0400 (Thu, 07 Jul 2022) EllapsedTime: 1.1 seconds RetCode: 1 Status: ERROR PackageFile: None PackageFileSize: NA