Package: sampleClassifier Version: 1.22.0 Command: /home/biocbuild/bbs-3.16-bioc/R/bin/R CMD INSTALL sampleClassifier StartedAt: 2023-04-10 15:34:23 -0400 (Mon, 10 Apr 2023) EndedAt: 2023-04-10 15:34:43 -0400 (Mon, 10 Apr 2023) EllapsedTime: 20.9 seconds RetCode: 0 Status: OK