Package: diffcoexp Version: 1.18.0 Command: rm -rf diffcoexp.buildbin-libdir && mkdir diffcoexp.buildbin-libdir && /Users/biocbuild/BBS/utils/build-universal.sh diffcoexp_1.18.0.tar.gz /Library/Frameworks/R.framework/Resources/bin/R diffcoexp.buildbin-libdir StartedAt: 2023-04-10 23:40:44 -0400 (Mon, 10 Apr 2023) EndedAt: 2023-04-10 23:41:19 -0400 (Mon, 10 Apr 2023) EllapsedTime: 35.3 seconds RetCode: 0 Status: OK PackageFile: diffcoexp_1.18.0.tgz PackageFileSize: 318.5 KiB