Package: HumanTranscriptomeCompendium Version: 1.13.0 Command: /Library/Frameworks/R.framework/Resources/bin/R CMD build --keep-empty-dirs --no-resave-data HumanTranscriptomeCompendium StartedAt: 2022-07-06 22:38:53 -0400 (Wed, 06 Jul 2022) EndedAt: 2022-07-06 22:40:16 -0400 (Wed, 06 Jul 2022) EllapsedTime: 83.5 seconds RetCode: 0 Status: OK PackageFile: HumanTranscriptomeCompendium_1.13.0.tar.gz PackageFileSize: 2.789 MiB