Package: HumanTranscriptomeCompendium Version: 1.13.0 Command: rm -rf HumanTranscriptomeCompendium.buildbin-libdir && mkdir HumanTranscriptomeCompendium.buildbin-libdir && /Users/biocbuild/BBS/utils/build-universal.sh HumanTranscriptomeCompendium_1.13.0.tar.gz /Library/Frameworks/R.framework/Resources/bin/R HumanTranscriptomeCompendium.buildbin-libdir StartedAt: 2022-07-07 08:11:35 -0400 (Thu, 07 Jul 2022) EndedAt: 2022-07-07 08:12:16 -0400 (Thu, 07 Jul 2022) EllapsedTime: 41.4 seconds RetCode: 0 Status: OK PackageFile: HumanTranscriptomeCompendium_1.13.0.tgz PackageFileSize: 2.092 MiB