Package: BioMVCClass Version: 1.65.0 Command: rm -rf BioMVCClass.buildbin-libdir && mkdir BioMVCClass.buildbin-libdir && /Users/biocbuild/BBS/utils/build-universal.sh BioMVCClass_1.65.0.tar.gz /Library/Frameworks/R.framework/Resources/bin/R BioMVCClass.buildbin-libdir StartedAt: 2022-07-07 07:36:08 -0400 (Thu, 07 Jul 2022) EndedAt: 2022-07-07 07:36:19 -0400 (Thu, 07 Jul 2022) EllapsedTime: 11.0 seconds RetCode: 0 Status: OK PackageFile: BioMVCClass_1.65.0.tgz PackageFileSize: 144 KiB