git_url: https://git.bioconductor.org/packages/msdata git_branch: RELEASE_3_15 git_last_commit: 1b9e568 git_last_commit_date: 2022-04-26 12:57:44 -0400 (Tue, 26 Apr 2022) Package: msdata Version: 0.36.0 Maintainer: Steffen Neumann , Laurent Gatto MaintainerEmail: laurent.gatto at uclouvain.be