Package: miRcompData Version: 1.25.0 Command: /home/biocbuild/bbs-3.15-data-experiment/R/bin/R CMD INSTALL miRcompData StartedAt: 2022-02-17 05:01:06 -0500 (Thu, 17 Feb 2022) EndedAt: 2022-02-17 05:01:08 -0500 (Thu, 17 Feb 2022) EllapsedTime: 1.7 seconds RetCode: 0 Status: OK