git_url: https://git.bioconductor.org/packages/breakpointRdata git_branch: RELEASE_3_15 git_last_commit: d8a8c06 git_last_commit_date: 2022-04-26 13:31:10 -0400 (Tue, 26 Apr 2022) Package: breakpointRdata Version: 1.14.0 Maintainer: David Porubsky MaintainerEmail: david.porubsky at gmail.com