Package: SimBenchData Version: 1.3.0 Command: /home/biocbuild/bbs-3.15-data-experiment/R/bin/R CMD build --keep-empty-dirs --no-resave-data SimBenchData StartedAt: 2022-02-17 06:19:11 -0500 (Thu, 17 Feb 2022) EndedAt: 2022-02-17 06:19:37 -0500 (Thu, 17 Feb 2022) EllapsedTime: 25.6 seconds RetCode: 0 Status: OK PackageFile: SimBenchData_1.3.0.tar.gz PackageFileSize: 236.1 KiB