git_url: https://git.bioconductor.org/packages/HMP16SData git_branch: RELEASE_3_15 git_last_commit: 6aa4858 git_last_commit_date: 2022-04-26 13:29:03 -0400 (Tue, 26 Apr 2022) Package: HMP16SData Version: 1.16.0 Maintainer: Lucas schiffer MaintainerEmail: schiffer.lucas at gmail.com